BEGIN:VCALENDAR
VERSION:2.0
PRODID:-//hacksw/handcal//NONSGML v1.0//EN
BEGIN:VEVENT
SUMMARY:Challenge MiniPag (Luneville piscine)
UID:37bfb4f0-23a3-4f90-93be-af006653d38d
DTSTART:20261122T120000Z
DTEND:20261122T163000Z
LOCATION:Localisation   
CATEGORIES:Sportif
STATUS:
URL;VALUE=URI:https://www.cksanon.com/evenements/2026/11/22/challenge-minipag-luneville-piscine-2423939
END:VEVENT
END:VCALENDAR
