BEGIN:VCALENDAR
VERSION:2.0
PRODID:-//hacksw/handcal//NONSGML v1.0//EN
BEGIN:VEVENT
SUMMARY:Championnat kayak polo Thionville
UID:832a9e24-4ff7-47e0-bca1-28525f9e3ade
DTSTART:20261011T050000Z
DTEND:20261011T163000Z
LOCATION:Localisation   
CATEGORIES:Sportif
STATUS:
URL;VALUE=URI:https://www.cksanon.com/evenements/2026/10/11/championnat-kayak-polo-thionville-2423942
END:VEVENT
END:VCALENDAR
