BEGIN:VCALENDAR
VERSION:2.0
PRODID:-//hacksw/handcal//NONSGML v1.0//EN
BEGIN:VEVENT
SUMMARY:Challenge MiniPag (Dragon Toul)
UID:50b58cac-3f91-43c8-9565-2b9a56a87997
DTSTART:20261003T101500Z
DTEND:20261003T153000Z
LOCATION:Localisation   
CATEGORIES:Sportif
STATUS:
URL;VALUE=URI:https://www.cksanon.com/evenements/2026/10/03/challenge-minipag-dragon-toul-2423938
END:VEVENT
END:VCALENDAR
