BEGIN:VCALENDAR
VERSION:2.0
PRODID:-//hacksw/handcal//NONSGML v1.0//EN
BEGIN:VEVENT
SUMMARY:Championnat kayak polo Rosiere
UID:22a036b0-6fb9-4ad7-b0f7-974649c9538f
DTSTART:20260927T060000Z
DTEND:20260927T150000Z
LOCATION:Localisation   
CATEGORIES:Sportif
STATUS:
URL;VALUE=URI:https://www.cksanon.com/evenements/2026/09/27/championnat-kayak-polo-rosiere-2423941
END:VEVENT
END:VCALENDAR
