BEGIN:VCALENDAR
VERSION:2.0
PRODID:-//hacksw/handcal//NONSGML v1.0//EN
BEGIN:VEVENT
SUMMARY:Durance 2026
UID:1fee7fc3-85b2-4845-b9cd-a981ea46e7a1
DTSTART:20260709T220000Z
DTEND:20260719T220000Z
LOCATION:Localisation   
CATEGORIES:Sportif
STATUS:
URL;VALUE=URI:https://www.cksanon.com/evenements/2026/07/10/durance-2026-2423936
END:VEVENT
END:VCALENDAR
