BEGIN:VCALENDAR
VERSION:2.0
PRODID:-//hacksw/handcal//NONSGML v1.0//EN
BEGIN:VEVENT
SUMMARY:Challenge MiniPag (slalom Blainville)
UID:efa6559e-74e6-4867-962a-24b8039281c6
DTSTART:20260627T103000Z
DTEND:20260627T153000Z
LOCATION:Localisation   
CATEGORIES:Sportif
STATUS:
URL;VALUE=URI:https://www.cksanon.com/evenements/2026/06/27/challenge-minipag-slalom-blainville-2423934
END:VEVENT
END:VCALENDAR
