BEGIN:VCALENDAR
VERSION:2.0
PRODID:-//hacksw/handcal//NONSGML v1.0//EN
BEGIN:VEVENT
SUMMARY:Championnat kayak polo Strasbourg
UID:2639f56e-780d-442a-b6f9-e067b694ad5e
DTSTART:20260614T050000Z
DTEND:20260614T163000Z
LOCATION:Localisation   
CATEGORIES:Sportif
STATUS:
URL;VALUE=URI:https://www.cksanon.com/evenements/2026/06/14/championnat-kayak-polo-strasbourg-2423940
END:VEVENT
END:VCALENDAR
