BEGIN:VCALENDAR
VERSION:2.0
PRODID:-//hacksw/handcal//NONSGML v1.0//EN
BEGIN:VEVENT
SUMMARY:Challenge MiniPag (kayak polo Rosieres))
UID:eaa51677-4fc2-4b17-8c3b-ca6ecd2f20c3
DTSTART:20260613T110000Z
DTEND:20260613T153000Z
LOCATION:Localisation   
CATEGORIES:Sportif
STATUS:
URL;VALUE=URI:https://www.cksanon.com/evenements/2026/06/13/challenge-minipag-kayak-polo-rosieres-2423933
END:VEVENT
END:VCALENDAR
