BEGIN:VCALENDAR
VERSION:2.0
PRODID:-//hacksw/handcal//NONSGML v1.0//EN
BEGIN:VEVENT
SUMMARY:Challenge MiniPag (course en ligne Einville)
UID:041bce66-030e-4cbe-9d5d-ddedee134fb0
DTSTART:20260530T083000Z
DTEND:20260530T150000Z
LOCATION:Localisation   
CATEGORIES:Sportif
STATUS:
URL;VALUE=URI:https://www.cksanon.com/evenements/2026/05/30/challenge-minipag-course-en-ligne-einville-2423932
END:VEVENT
END:VCALENDAR
