BEGIN:VCALENDAR
VERSION:2.0
PRODID:-//hacksw/handcal//NONSGML v1.0//EN
BEGIN:VEVENT
SUMMARY:Open Rosiere aux Salines
UID:87fe4c4a-fa95-4116-a1ea-ad58a6af6dff
DTSTART:20260510T063000Z
DTEND:20260510T150000Z
LOCATION:Localisation   
CATEGORIES:Sportif
STATUS:
URL;VALUE=URI:https://www.cksanon.com/evenements/2026/05/10/open-rosiere-aux-salines-2423948
END:VEVENT
END:VCALENDAR
