BEGIN:VCALENDAR
VERSION:2.0
PRODID:-//hacksw/handcal//NONSGML v1.0//EN
BEGIN:VEVENT
SUMMARY:challenge MiniPag (kayak cross Nancy)
UID:a8769d96-a67e-4e1d-9a8f-af7d6738cac9
DTSTART:20260509T073000Z
DTEND:20260509T153000Z
LOCATION:Localisation   
CATEGORIES:Sportif
STATUS:
URL;VALUE=URI:https://www.cksanon.com/evenements/2026/05/09/challenge-minipag-kayak-cross-nancy-2423930
END:VEVENT
END:VCALENDAR
