BEGIN:VCALENDAR
VERSION:2.0
PRODID:-//hacksw/handcal//NONSGML v1.0//EN
BEGIN:VEVENT
SUMMARY:Assemblee generale du club
UID:dcf31316-9541-4931-beec-946a991047b3
DTSTART:20260507T160000Z
DTEND:20260507T173000Z
LOCATION:Localisation 5 rue Karquel 54370 Einville au Jard
CATEGORIES:Sportif
STATUS:
URL;VALUE=URI:https://www.cksanon.com/evenements/2026/05/07/assemblee-generale-du-club-2442982
END:VEVENT
END:VCALENDAR
