BEGIN:VCALENDAR
VERSION:2.0
PRODID:-//hacksw/handcal//NONSGML v1.0//EN
BEGIN:VEVENT
SUMMARY:Mini championnat de polo
UID:704dfc70-2b76-4fcc-929f-067efb93a13d
DTSTART:20260426T120000Z
DTEND:20260426T153000Z
LOCATION:Localisation   
CATEGORIES:Sportif
STATUS:
URL;VALUE=URI:https://www.cksanon.com/evenements/2026/04/26/mini-championnat-de-polo-2442985
END:VEVENT
END:VCALENDAR
